BEGIN:VCALENDAR
VERSION:2.0
PRODID:-//All Wales People First - ECPv6.15.16//NONSGML v1.0//EN
CALSCALE:GREGORIAN
METHOD:PUBLISH
X-WR-CALNAME:All Wales People First
X-ORIGINAL-URL:https://allwalespeople1st.co.uk/?lang=cy
X-WR-CALDESC:Events for All Wales People First
REFRESH-INTERVAL;VALUE=DURATION:PT1H
X-Robots-Tag:noindex
X-PUBLISHED-TTL:PT1H
BEGIN:VTIMEZONE
TZID:Europe/London
BEGIN:DAYLIGHT
TZOFFSETFROM:+0000
TZOFFSETTO:+0100
TZNAME:BST
DTSTART:20170326T010000
END:DAYLIGHT
BEGIN:STANDARD
TZOFFSETFROM:+0100
TZOFFSETTO:+0000
TZNAME:GMT
DTSTART:20171029T010000
END:STANDARD
BEGIN:DAYLIGHT
TZOFFSETFROM:+0000
TZOFFSETTO:+0100
TZNAME:BST
DTSTART:20180325T010000
END:DAYLIGHT
BEGIN:STANDARD
TZOFFSETFROM:+0100
TZOFFSETTO:+0000
TZNAME:GMT
DTSTART:20181028T010000
END:STANDARD
BEGIN:DAYLIGHT
TZOFFSETFROM:+0000
TZOFFSETTO:+0100
TZNAME:BST
DTSTART:20190331T010000
END:DAYLIGHT
BEGIN:STANDARD
TZOFFSETFROM:+0100
TZOFFSETTO:+0000
TZNAME:GMT
DTSTART:20191027T010000
END:STANDARD
END:VTIMEZONE
BEGIN:VEVENT
DTSTART;VALUE=DATE:20181016
DTEND;VALUE=DATE:20181018
DTSTAMP:20260424T151958
CREATED:20180606T113719Z
LAST-MODIFIED:20180606T114016Z
UID:1399-1539648000-1539820799@allwalespeople1st.co.uk
SUMMARY:Cynhadledd Flynyddol a CCB 2018
DESCRIPTION:Cynhelir ein Cynhadledd Flynyddol a CCB 2018 yng Ngwesty Ramada Plaza yn Wrecsam\, Gogledd Cymru ddydd Mawrth 16eg a dydd Mercher 17 Hydref.\nByddwn yn anfon mwy o wybodaeth a ffurflenni archebu i grwpiau yn fuan.
URL:https://allwalespeople1st.co.uk/digwyddiadau-a-hyfforddiant/cynhadledd-flynyddol-a-ccb-2018/?lang=cy
LOCATION:Ramada Plaza Wrexham\, Ellice Way\, Wrexham\, LL13 7YH
ORGANIZER;CN="All Wales People First":MAILTO:victoria@allwalespeople1st.co.uk
END:VEVENT
END:VCALENDAR