BEGIN:VCALENDAR
VERSION:2.0
PRODID:-//All Wales People First - ECPv6.15.16//NONSGML v1.0//EN
CALSCALE:GREGORIAN
METHOD:PUBLISH
X-ORIGINAL-URL:https://allwalespeople1st.co.uk
X-WR-CALDESC:Events for All Wales People First
REFRESH-INTERVAL;VALUE=DURATION:PT1H
X-Robots-Tag:noindex
X-PUBLISHED-TTL:PT1H
BEGIN:VTIMEZONE
TZID:Europe/London
BEGIN:DAYLIGHT
TZOFFSETFROM:+0000
TZOFFSETTO:+0100
TZNAME:BST
DTSTART:20250330T010000
END:DAYLIGHT
BEGIN:STANDARD
TZOFFSETFROM:+0100
TZOFFSETTO:+0000
TZNAME:GMT
DTSTART:20251026T010000
END:STANDARD
BEGIN:DAYLIGHT
TZOFFSETFROM:+0000
TZOFFSETTO:+0100
TZNAME:BST
DTSTART:20260329T010000
END:DAYLIGHT
BEGIN:STANDARD
TZOFFSETFROM:+0100
TZOFFSETTO:+0000
TZNAME:GMT
DTSTART:20261025T010000
END:STANDARD
BEGIN:DAYLIGHT
TZOFFSETFROM:+0000
TZOFFSETTO:+0100
TZNAME:BST
DTSTART:20270328T010000
END:DAYLIGHT
BEGIN:STANDARD
TZOFFSETFROM:+0100
TZOFFSETTO:+0000
TZNAME:GMT
DTSTART:20271031T010000
END:STANDARD
END:VTIMEZONE
BEGIN:VEVENT
DTSTART;VALUE=DATE:20260623
DTEND;VALUE=DATE:20260625
DTSTAMP:20260419T192719
CREATED:20251202T164925Z
LAST-MODIFIED:20260204T090324Z
UID:26179-1782172800-1782345599@allwalespeople1st.co.uk
SUMMARY:AdFest 2026
DESCRIPTION:The theme for AdFest 2026  is Living My Best Life Around the World \nWhen? 23 & 24 June \nWhere? Future Inn\, Cardiff Bay \nWhat’s happening: Workshops\, stalls and activities \nOur overnight (residential) places include meals on both conference days and a place at the MIRROR Awards ceremony and dinner. \nPrices from £35 for day delegates and between £80 – £130 for overnight (residential) places \nSpecial rates for members. \nDelegate Bookings\nHere is the booking form for members \nhttps://awpf.online/adfestmember-delegate2026 \nHere is the booking form for non-members \nhttp://www.awpf.online/adfestnon-member-delegate2026 \n  \nWant help to book your place?\nJoin us on Zoom for any of these sessions: \n \n  \nExhibitor Bookings\nhttp://www.awpf.online/exhibitor2026 \n 
URL:https://allwalespeople1st.co.uk/events-and-training/adfest-2026/
LOCATION:Future Inn Cardiff
ATTACH;FMTTYPE=image/jpeg:https://allwalespeople1st.co.uk/wp-content/uploads/2025/12/AdFest-2026-publicity-flyer.jpg
END:VEVENT
END:VCALENDAR