BEGIN:VCALENDAR
VERSION:2.0
PRODID:-//All Wales People First - ECPv6.15.16//NONSGML v1.0//EN
CALSCALE:GREGORIAN
METHOD:PUBLISH
X-WR-CALNAME:All Wales People First
X-ORIGINAL-URL:https://allwalespeople1st.co.uk
X-WR-CALDESC:Events for All Wales People First
REFRESH-INTERVAL;VALUE=DURATION:PT1H
X-Robots-Tag:noindex
X-PUBLISHED-TTL:PT1H
BEGIN:VTIMEZONE
TZID:Europe/London
BEGIN:DAYLIGHT
TZOFFSETFROM:+0000
TZOFFSETTO:+0100
TZNAME:BST
DTSTART:20240331T010000
END:DAYLIGHT
BEGIN:STANDARD
TZOFFSETFROM:+0100
TZOFFSETTO:+0000
TZNAME:GMT
DTSTART:20241027T010000
END:STANDARD
BEGIN:DAYLIGHT
TZOFFSETFROM:+0000
TZOFFSETTO:+0100
TZNAME:BST
DTSTART:20250330T010000
END:DAYLIGHT
BEGIN:STANDARD
TZOFFSETFROM:+0100
TZOFFSETTO:+0000
TZNAME:GMT
DTSTART:20251026T010000
END:STANDARD
BEGIN:DAYLIGHT
TZOFFSETFROM:+0000
TZOFFSETTO:+0100
TZNAME:BST
DTSTART:20260329T010000
END:DAYLIGHT
BEGIN:STANDARD
TZOFFSETFROM:+0100
TZOFFSETTO:+0000
TZNAME:GMT
DTSTART:20261025T010000
END:STANDARD
END:VTIMEZONE
BEGIN:VEVENT
DTSTART;TZID=Europe/London:20250829T110000
DTEND;TZID=Europe/London:20250829T120000
DTSTAMP:20260420T071109
CREATED:20250122T135101Z
LAST-MODIFIED:20250122T135101Z
UID:21145-1756465200-1756468800@allwalespeople1st.co.uk
SUMMARY:Elevenses with Gerraint
DESCRIPTION:Join Gerraint and his guests for a topical discussion about important issues that matter to members.  There’s generally time for updates from self advocacy groups and a quick quiz!  Look forward to seeing you \n  \nMeeting ID: 830 3658 8880\nPasscode: talk
URL:https://allwalespeople1st.co.uk/events-and-training/elevenses-with-gerraint-5/
ATTACH;FMTTYPE=image/jpeg:https://allwalespeople1st.co.uk/wp-content/uploads/2025/01/New-code-SATV-poster-1.jpg
END:VEVENT
END:VCALENDAR