BEGIN:VCALENDAR
VERSION:2.0
PRODID:-//All Wales People First - ECPv6.15.16//NONSGML v1.0//EN
CALSCALE:GREGORIAN
METHOD:PUBLISH
X-WR-CALNAME:All Wales People First
X-ORIGINAL-URL:https://allwalespeople1st.co.uk
X-WR-CALDESC:Events for All Wales People First
REFRESH-INTERVAL;VALUE=DURATION:PT1H
X-Robots-Tag:noindex
X-PUBLISHED-TTL:PT1H
BEGIN:VTIMEZONE
TZID:Europe/London
BEGIN:DAYLIGHT
TZOFFSETFROM:+0000
TZOFFSETTO:+0100
TZNAME:BST
DTSTART:20240331T010000
END:DAYLIGHT
BEGIN:STANDARD
TZOFFSETFROM:+0100
TZOFFSETTO:+0000
TZNAME:GMT
DTSTART:20241027T010000
END:STANDARD
BEGIN:DAYLIGHT
TZOFFSETFROM:+0000
TZOFFSETTO:+0100
TZNAME:BST
DTSTART:20250330T010000
END:DAYLIGHT
BEGIN:STANDARD
TZOFFSETFROM:+0100
TZOFFSETTO:+0000
TZNAME:GMT
DTSTART:20251026T010000
END:STANDARD
BEGIN:DAYLIGHT
TZOFFSETFROM:+0000
TZOFFSETTO:+0100
TZNAME:BST
DTSTART:20260329T010000
END:DAYLIGHT
BEGIN:STANDARD
TZOFFSETFROM:+0100
TZOFFSETTO:+0000
TZNAME:GMT
DTSTART:20261025T010000
END:STANDARD
END:VTIMEZONE
BEGIN:VEVENT
DTSTART;TZID=Europe/London:20250624T100000
DTEND;TZID=Europe/London:20250625T163000
DTSTAMP:20260420T105412
CREATED:20250207T103515Z
LAST-MODIFIED:20250317T080720Z
UID:21130-1750759200-1750869000@allwalespeople1st.co.uk
SUMMARY:AdFest 2025
DESCRIPTION:AdFest 2025 will be held at the Kinmel and Kinspa Hotel in Abergele from Tuesday 24th to Wednesday 25th June. \nPrices from £35 for day delegates and between £75 – 125 for residential packages \nDelegate bookings\nOpen 17th March \nHere is the booking form for members \nhttp://www.awpf.online/members/delegate2025 \nHere is the booking form for non members \nhttp://www.awpf.online/non-members/delegate2025 \nExhibitor bookings\nopen 17th February \nwww.awpf.online/exhibitor2025 \n 
URL:https://allwalespeople1st.co.uk/events-and-training/adfest-2025/
LOCATION:Kinmel and Kinspa Hotel\, St George Road\, Abergele\, LL22 9AS
ATTACH;FMTTYPE=image/jpeg:https://allwalespeople1st.co.uk/wp-content/uploads/2025/02/AdFest-2025-Save-the-date.jpg
END:VEVENT
BEGIN:VEVENT
DTSTART;TZID=Europe/London:20250625T103000
DTEND;TZID=Europe/London:20250625T110000
DTSTAMP:20260420T105412
CREATED:20250521T120552Z
LAST-MODIFIED:20250611T133602Z
UID:23405-1750847400-1750849200@allwalespeople1st.co.uk
SUMMARY:Annual General Meeting
DESCRIPTION:AWPF will be holding its AGM on Wednesday 25th June 2025 at 10.30 \nThe meeting will be held at the Kinmel and Kinspa Hotel\, Abergele \nAGM packJune2025 \nMinutes of the AGM held on 20th June 2024 ER (1) \nYou can read the draft Annual Report here: \nhttps://allwalespeople1st.co.uk/resources/annual-report-2024-2025-draft/ \n  \n 
URL:https://allwalespeople1st.co.uk/events-and-training/annual-general-meeting-3/
LOCATION:Kinmel and Kinspa Hotel\, St George Road\, Abergele\, LL22 9AS
END:VEVENT
END:VCALENDAR