BEGIN:VCALENDAR
VERSION:2.0
PRODID:-//All Wales People First - ECPv6.15.16//NONSGML v1.0//EN
CALSCALE:GREGORIAN
METHOD:PUBLISH
X-ORIGINAL-URL:https://allwalespeople1st.co.uk
X-WR-CALDESC:Events for All Wales People First
REFRESH-INTERVAL;VALUE=DURATION:PT1H
X-Robots-Tag:noindex
X-PUBLISHED-TTL:PT1H
BEGIN:VTIMEZONE
TZID:Europe/London
BEGIN:DAYLIGHT
TZOFFSETFROM:+0000
TZOFFSETTO:+0100
TZNAME:BST
DTSTART:20240331T010000
END:DAYLIGHT
BEGIN:STANDARD
TZOFFSETFROM:+0100
TZOFFSETTO:+0000
TZNAME:GMT
DTSTART:20241027T010000
END:STANDARD
BEGIN:DAYLIGHT
TZOFFSETFROM:+0000
TZOFFSETTO:+0100
TZNAME:BST
DTSTART:20250330T010000
END:DAYLIGHT
BEGIN:STANDARD
TZOFFSETFROM:+0100
TZOFFSETTO:+0000
TZNAME:GMT
DTSTART:20251026T010000
END:STANDARD
BEGIN:DAYLIGHT
TZOFFSETFROM:+0000
TZOFFSETTO:+0100
TZNAME:BST
DTSTART:20260329T010000
END:DAYLIGHT
BEGIN:STANDARD
TZOFFSETFROM:+0100
TZOFFSETTO:+0000
TZNAME:GMT
DTSTART:20261025T010000
END:STANDARD
END:VTIMEZONE
BEGIN:VEVENT
DTSTART;TZID=Europe/London:20250509T110000
DTEND;TZID=Europe/London:20250509T120000
DTSTAMP:20260424T064107
CREATED:20250318T121115Z
LAST-MODIFIED:20250318T121115Z
UID:22207-1746788400-1746792000@allwalespeople1st.co.uk
SUMMARY:Elevenses with Gerraint
DESCRIPTION:Join Gerraint today to chat about all things Welsh. \n 
URL:https://allwalespeople1st.co.uk/events-and-training/elevenses-with-gerraint-9/
LOCATION:https://us02web.zoom.us/j/83036588880?pwd=5I0WYuMla3AddFOuGb1lGVBr8r8x1W.1
END:VEVENT
END:VCALENDAR