BEGIN:VCALENDAR
VERSION:2.0
PRODID:-//All Wales People First - ECPv6.15.16//NONSGML v1.0//EN
CALSCALE:GREGORIAN
METHOD:PUBLISH
X-WR-CALNAME:All Wales People First
X-ORIGINAL-URL:https://allwalespeople1st.co.uk
X-WR-CALDESC:Events for All Wales People First
REFRESH-INTERVAL;VALUE=DURATION:PT1H
X-Robots-Tag:noindex
X-PUBLISHED-TTL:PT1H
BEGIN:VTIMEZONE
TZID:Europe/London
BEGIN:DAYLIGHT
TZOFFSETFROM:+0000
TZOFFSETTO:+0100
TZNAME:BST
DTSTART:20230326T010000
END:DAYLIGHT
BEGIN:STANDARD
TZOFFSETFROM:+0100
TZOFFSETTO:+0000
TZNAME:GMT
DTSTART:20231029T010000
END:STANDARD
BEGIN:DAYLIGHT
TZOFFSETFROM:+0000
TZOFFSETTO:+0100
TZNAME:BST
DTSTART:20240331T010000
END:DAYLIGHT
BEGIN:STANDARD
TZOFFSETFROM:+0100
TZOFFSETTO:+0000
TZNAME:GMT
DTSTART:20241027T010000
END:STANDARD
BEGIN:DAYLIGHT
TZOFFSETFROM:+0000
TZOFFSETTO:+0100
TZNAME:BST
DTSTART:20250330T010000
END:DAYLIGHT
BEGIN:STANDARD
TZOFFSETFROM:+0100
TZOFFSETTO:+0000
TZNAME:GMT
DTSTART:20251026T010000
END:STANDARD
BEGIN:DAYLIGHT
TZOFFSETFROM:+0000
TZOFFSETTO:+0100
TZNAME:BST
DTSTART:20260329T010000
END:DAYLIGHT
BEGIN:STANDARD
TZOFFSETFROM:+0100
TZOFFSETTO:+0000
TZNAME:GMT
DTSTART:20261025T010000
END:STANDARD
END:VTIMEZONE
BEGIN:VEVENT
DTSTART;TZID=Europe/London:20241119T100000
DTEND;TZID=Europe/London:20250113T160000
DTSTAMP:20260424T235524
CREATED:20241107T090028Z
LAST-MODIFIED:20241031T092347Z
UID:19570-1732010400-1736784000@allwalespeople1st.co.uk
SUMMARY:Through Our Eyes On Tour
DESCRIPTION:All Wales People First  proudly presents   \nThrough Our Eyes on Tour \, November 19th 2024 – January 13th 2025   \nPontio\, Bangor University  LL57 2TQ  \nThe Through Our Eyes photography exhibition shares the stories of people with learning disabilities in Wales through photographs. Our exhibition challenges perceptions and stereotypes by highlighting the valued roles and activities of people with learning disabilities in our communities. We celebrate our achievements in employment\, volunteering\, sport\, education and other areas of life.     \nhttps://allwalespeople1st.co.uk/project/through-our-eyes-project-2020-2021/ \nFor opening times please check Pontio’s website:https://tickets.pontio.co.uk/Online/Default.asp?sessionlanguage=EN
URL:https://allwalespeople1st.co.uk/events-and-training/through-our-eyes-on-tour/
LOCATION:Pontio\, Bangor University\, Bangor\, LL57 2TQ\, United Kingdom
ATTACH;FMTTYPE=image/jpeg:https://allwalespeople1st.co.uk/wp-content/uploads/2024/10/exhibition-english.jpg
END:VEVENT
END:VCALENDAR