BEGIN:VCALENDAR
VERSION:2.0
PRODID:-//All Wales People First - ECPv6.15.16//NONSGML v1.0//EN
CALSCALE:GREGORIAN
METHOD:PUBLISH
X-ORIGINAL-URL:https://allwalespeople1st.co.uk
X-WR-CALDESC:Events for All Wales People First
REFRESH-INTERVAL;VALUE=DURATION:PT1H
X-Robots-Tag:noindex
X-PUBLISHED-TTL:PT1H
BEGIN:VTIMEZONE
TZID:Europe/London
BEGIN:DAYLIGHT
TZOFFSETFROM:+0000
TZOFFSETTO:+0100
TZNAME:BST
DTSTART:20230326T010000
END:DAYLIGHT
BEGIN:STANDARD
TZOFFSETFROM:+0100
TZOFFSETTO:+0000
TZNAME:GMT
DTSTART:20231029T010000
END:STANDARD
BEGIN:DAYLIGHT
TZOFFSETFROM:+0000
TZOFFSETTO:+0100
TZNAME:BST
DTSTART:20240331T010000
END:DAYLIGHT
BEGIN:STANDARD
TZOFFSETFROM:+0100
TZOFFSETTO:+0000
TZNAME:GMT
DTSTART:20241027T010000
END:STANDARD
BEGIN:DAYLIGHT
TZOFFSETFROM:+0000
TZOFFSETTO:+0100
TZNAME:BST
DTSTART:20250330T010000
END:DAYLIGHT
BEGIN:STANDARD
TZOFFSETFROM:+0100
TZOFFSETTO:+0000
TZNAME:GMT
DTSTART:20251026T010000
END:STANDARD
END:VTIMEZONE
BEGIN:VEVENT
DTSTART;TZID=Europe/London:20240619T100000
DTEND;TZID=Europe/London:20240620T160000
DTSTAMP:20260425T112833
CREATED:20240227T102551Z
LAST-MODIFIED:20240228T182443Z
UID:15335-1718791200-1718899200@allwalespeople1st.co.uk
SUMMARY:AdFest 2024
DESCRIPTION:AdFest is being held at the Future Inn Cardiff Bay on Wednesday 19th and Thursday 20th June 2024. \nYou can find lots of information in the booking flyer here Booking flyer 2024 (1) (1) \nThis is the link for the Booking Form  https://awpf.online/adfest-delegate2024 \nIf you need any help with bookings\, please contact claire@allwalespeople1st.co.uk \nOrganisations are welcome to book an exhibition stall for Thursday 20th June. \nThis is the link for the Exhibitors’ Booking Form: https://awpf.online/adfest-exhibitor \n 
URL:https://allwalespeople1st.co.uk/events-and-training/adfest-2024/
LOCATION:Future Inn Cardiff
ATTACH;FMTTYPE=image/jpeg:https://allwalespeople1st.co.uk/wp-content/uploads/2024/02/GreenAdFest-2024.pdf-1.jpg
END:VEVENT
BEGIN:VEVENT
DTSTART;TZID=Europe/London:20240619T190000
DTEND;TZID=Europe/London:20240619T200000
DTSTAMP:20260425T112833
CREATED:20240117T141205Z
LAST-MODIFIED:20240214T121532Z
UID:14555-1718823600-1718827200@allwalespeople1st.co.uk
SUMMARY:MIRROR AWARDS 2024
DESCRIPTION:The award ceremony \nThis year’s Mirror Awards Ceremony will take place during our AdFest event at the Future Inn Cardiff on 19th June \nIt will take place in the evening from 7.30pm \nThe Mirror Awards celebrate the great things self-advocates and groups have done over the last year. \nWinners are announced during the award ceremony and they receive an engraved glass award and certificate. \n  \nAward nominations \nYou can put yourself forward for a MIRROR award or you can nominate someone else for an award. \nYou will need to let us know why you or the person deserve an award. You can write the reason down or you can do a video. \nEmail joe@allwalespeople1st.co.uk if you would like help with nominating \nAll nominations must be received by 5pm on Friday 26th April at 5.00 pm \nHere is some Easy read information about nominating MIRROR Award nomination info 2024 \nMIRROR Award nomination info 2024 \nThere are 6 MIRROR Awards. \nMembers – Linton Gower Memorial Award (Thanks to Mencap Cymru for sponsoring this award 2023-2027) \nThis award is for a member or members who have done something outstanding towards the running of their self-advocacy group. \nIdeas \nThis award is for a member\, or a group\, who have worked with others on an idea. The idea should be something that improves the lives of people with learning disabilities in Wales. \nRights \nThis award will go to a member or group who has helped people know about or access their rights. \nReflect \nThis award will go to a member or group who can show they have learnt from their experiences and made a change. \nOrganisation \nThis award is for a group that has worked together to be a strong group and included everyone. \nReview \nThis award is for a group or member who has achieved something special. \n  \nSponsoring an award \nSponsoring a Mirror Award costs £150 \nSponsoring a table at the MIRROR Award ceremony & dinner costs £150 \n  \nYou can learn more about sponsorship packages here \nMIRROR Award sponsorship 2024 \n  \nPlease complete the online form here if you would like to sponsor  a table or an award \nhttp://www.awpf.online/mirror-sponsorship
URL:https://allwalespeople1st.co.uk/events-and-training/mirror-awards-2024/
END:VEVENT
END:VCALENDAR